BEGIN:VCALENDAR
VERSION:2.0
CALSCALE:GREGORIAN
PRODID:adamgibbons/ics
METHOD:PUBLISH
X-PUBLISHED-TTL:PT1H
BEGIN:VEVENT
UID:21890@demo.gancio.org
SUMMARY:Yoga Molón
DTSTAMP:20260421T101211Z
DTSTART:20260421T160000Z
DTEND:20260421T170000Z
URL:https://demo.gancio.org/event/yoga-molon-1
GEO:40.3906518;-3.6657487
LOCATION:La Horizontal - Calle Eduardo Requenas\, nº10\, San Diego\, Puente
	 de Vallecas\, Madrid\, Área metropolitana de Madrid y Corredor del Henare
	s\, Comunidad de Madrid\, 28053\, España
STATUS:CONFIRMED
CATEGORIES:Madrid
END:VEVENT
BEGIN:VEVENT
UID:21761@demo.gancio.org
SUMMARY:Renta Básica Universal e  Incondicional
DTSTAMP:20260421T101211Z
DTSTART:20260421T163000Z
DTEND:20260421T183000Z
URL:https://demo.gancio.org/event/renta-basica-universal-e-incondicional
LOCATION:Teatro del Barrio - Calle Zurita 20
STATUS:CONFIRMED
CATEGORIES:Madrid,RBUI,RENTA BÁSICA UNIVERSAL
END:VEVENT
BEGIN:VEVENT
UID:21692@demo.gancio.org
SUMMARY:Curso de Autodefensa Digital
DTSTAMP:20260421T101211Z
DTSTART:20260421T170000Z
URL:https://demo.gancio.org/event/curso-de-autodefensa-digital
GEO:40.40945;-3.70965
LOCATION:CSO La Rosa - Calle Bastero 1
STATUS:CONFIRMED
CATEGORIES:AutoDefensa,Autodefensa digital,CSOLaRosa,Curso,Madrid,Privacida
	d,Teknokasa
END:VEVENT
BEGIN:VEVENT
UID:21891@demo.gancio.org
SUMMARY:Teatro
DTSTAMP:20260421T101211Z
DTSTART:20260421T180000Z
DTEND:20260421T200000Z
URL:https://demo.gancio.org/event/teatro-1
GEO:40.3906518;-3.6657487
LOCATION:La Horizontal - Calle Eduardo Requenas\, nº10\, San Diego\, Puente
	 de Vallecas\, Madrid\, Área metropolitana de Madrid y Corredor del Henare
	s\, Comunidad de Madrid\, 28053\, España
STATUS:CONFIRMED
CATEGORIES:Madrid
END:VEVENT
BEGIN:VEVENT
UID:21892@demo.gancio.org
SUMMARY:Espacio de acompañamiento vecinal para personas migrantes
DTSTAMP:20260421T101211Z
DTSTART:20260421T183000Z
DTEND:20260421T193000Z
URL:https://demo.gancio.org/event/espacio-de-acompanamiento-vecinal-para-pe
	rsonas-migrantes-2
GEO:40.388732;-3.666717
LOCATION:La Villana de Vallekas - Calle Sierra de alquife 12
STATUS:CONFIRMED
CATEGORIES:Madrid
END:VEVENT
BEGIN:VEVENT
UID:21740@demo.gancio.org
SUMMARY:Documental: «Palestina una tragedia permanente»
DTSTAMP:20260421T101211Z
DTSTART:20260423T170000Z
DTEND:20260423T190000Z
URL:https://demo.gancio.org/event/documental-palestina-una-tragedia-permane
	nte
LOCATION:Ateneo Libertario Carabanchel Latina - Calle Ánade 10\, 2ª planta.
	 Madrid.
STATUS:CONFIRMED
CATEGORIES:Documental,Madrid,Palestina,tragedia
END:VEVENT
BEGIN:VEVENT
UID:21829@demo.gancio.org
SUMMARY:3ª Bienal Anarquista de Madrid
DTSTAMP:20260421T101211Z
DTSTART:20260424T093000Z
DTEND:20260426T210000Z
URL:https://demo.gancio.org/event/3a-bienal-anarquista-de-madrid
GEO:40.4556691;-3.7015619012329135
LOCATION:CSOA La Enredadera de Tetuán - 5\, Calle de La Coruña\, Cuatro Cam
	inos\, Tetuán\, Madrid\, Área metropolitana de Madrid y Corredor del Henar
	es\, Comunidad de Madrid\, 28020\, España
STATUS:CONFIRMED
CATEGORIES:Anarquismo,Comida vegana,Madrid,Puestos de libros,editoriales,jo
	rnadas
END:VEVENT
BEGIN:VEVENT
UID:21875@demo.gancio.org
SUMMARY:Convocatoria "5 años contra Vivotecnia\, 5 años con los animales"
DTSTAMP:20260421T101211Z
DTSTART:20260424T150000Z
DTEND:20260424T170000Z
URL:https://demo.gancio.org/event/convocatoria-5-anos-contra-vivotecnia-5-a
	nos-con-los-animales
LOCATION:Centro Superior de Investigaciones Científicas - c/Serrano 113-123
STATUS:CONFIRMED
CATEGORIES:#CerremosVivotecniaPorLosAnimales #StopAnimalTesting #Antiespeci
	smo #LiberaciónAnimal,Antivivisección,Cerremos Vivotecnia,Madrid,Veganismo
	,antiespecismo
END:VEVENT
BEGIN:VEVENT
UID:21894@demo.gancio.org
SUMMARY:Presentación Goteo Madres protectoras
DTSTAMP:20260421T101211Z
DTSTART:20260425T100000Z
DTEND:20260425T140000Z
URL:https://demo.gancio.org/event/presentacion-goteo-madres-protectoras
GEO:40.388732;-3.666717
LOCATION:La Villana de Vallekas - Calle Sierra de alquife 12
STATUS:CONFIRMED
CATEGORIES:Ariskas,Feminismo,Feministas prospe,Madresprotectoras,Madrid,Pam
	ela Palenciano,Yo si te creo,la laboratoria
END:VEVENT
BEGIN:VEVENT
UID:21884@demo.gancio.org
SUMMARY:la cultura es de todas
DTSTAMP:20260421T101211Z
DTSTART:20260425T160000Z
DTEND:20260425T190000Z
URL:https://demo.gancio.org/event/la-cultura-es-de-todas
GEO:40.3887206;-3.6666996
LOCATION:Librería malaletra - Calle Sierra Alquife\, 12
STATUS:CONFIRMED
CATEGORIES:Madrid
END:VEVENT
BEGIN:VEVENT
UID:21755@demo.gancio.org
SUMMARY:Fiesta del árbol en parque Arriaga
DTSTAMP:20260421T101211Z
DTSTART:20260426T090000Z
DTEND:20260426T123000Z
URL:https://demo.gancio.org/event/fiesta-del-arbol-en-parque-arriaga
LOCATION:Parque de Arriaga 29 - Calle Arriaga 29
STATUS:CONFIRMED
CATEGORIES:Madrid
END:VEVENT
BEGIN:VEVENT
UID:21682@demo.gancio.org
SUMMARY:Club de lectura Ariskas: 13 cuentos\, de Luisa Carnés
DTSTAMP:20260421T101211Z
DTSTART:20260426T100000Z
DTEND:20260426T120000Z
URL:https://demo.gancio.org/event/club-de-lectura-ariskas-13-cuentos-de-lui
	sa-carnes
GEO:40.388732;-3.666717
LOCATION:La Villana de Vallekas - Calle Sierra de alquife 12
STATUS:CONFIRMED
CATEGORIES:Ariskas,ClubDeLectura,LaVillana,Madrid
END:VEVENT
BEGIN:VEVENT
UID:21588@demo.gancio.org
SUMMARY:Club de Lectura
DTSTAMP:20260421T101211Z
DTSTART:20260430T160000Z
DTEND:20260430T180000Z
URL:https://demo.gancio.org/event/club-de-lectura
GEO:40.40945;-3.70965
LOCATION:CSO La Rosa - Calle Bastero 1
STATUS:CONFIRMED
CATEGORIES:Madrid
END:VEVENT
BEGIN:VEVENT
UID:21657@demo.gancio.org
SUMMARY:Bicicrítica
DTSTAMP:20260421T101211Z
DTSTART:20260430T180000Z
URL:https://demo.gancio.org/event/bicicritica
GEO:40.4195624;-3.6927981
LOCATION:Plaza Cibeles - Recoletos\, Salamanca\, Madrid\, Área metropolitan
	a de Madrid y Corredor del Henares\, Comunidad de Madrid\, 28014\, España
STATUS:CONFIRMED
CATEGORIES:Madrid
END:VEVENT
BEGIN:VEVENT
UID:21744@demo.gancio.org
SUMMARY:PLINTAM-Do: autodefensa queer
DTSTAMP:20260421T101211Z
DTSTART:20260501T160000Z
DTEND:20260501T180000Z
URL:https://demo.gancio.org/event/plintam-do-autodefensa-queer
GEO:40.40945;-3.70965
LOCATION:CSO La Rosa - Calle Bastero 1
STATUS:CONFIRMED
CATEGORIES:Madrid
END:VEVENT
BEGIN:VEVENT
UID:21745@demo.gancio.org
SUMMARY:HACKLAB OPEN DAY
DTSTAMP:20260421T101211Z
DTSTART:20260501T170000Z
DTEND:20260502T080000Z
URL:https://demo.gancio.org/event/hacklab-open-day
GEO:40.4556691;-3.7015619012329135
LOCATION:CSOA La Enredadera de Tetuán - 5\, Calle de La Coruña\, Cuatro Cam
	inos\, Tetuán\, Madrid\, Área metropolitana de Madrid y Corredor del Henar
	es\, Comunidad de Madrid\, 28020\, España
STATUS:CONFIRMED
CATEGORIES:Madrid
END:VEVENT
BEGIN:VEVENT
UID:21866@demo.gancio.org
SUMMARY:1ª Feria de Fanzines Transfeminista La Villana
DTSTAMP:20260421T101211Z
DTSTART:20260502T120000Z
DTEND:20260502T180000Z
URL:https://demo.gancio.org/event/1a-feria-de-fanzines-transfeminista-la-vi
	llana
GEO:40.3887206;-3.6666996
LOCATION:Librería malaletra - Calle Sierra Alquife\, 12
STATUS:CONFIRMED
CATEGORIES:Madrid
END:VEVENT
BEGIN:VEVENT
UID:21844@demo.gancio.org
SUMMARY:ART-LAB
DTSTAMP:20260421T101211Z
DTSTART:20260508T160000Z
DTEND:20260508T210000Z
URL:https://demo.gancio.org/event/art-lab
GEO:40.4556691;-3.7015619012329135
LOCATION:CSOA La Enredadera de Tetuán - 5\, Calle de La Coruña\, Cuatro Cam
	inos\, Tetuán\, Madrid\, Área metropolitana de Madrid y Corredor del Henar
	es\, Comunidad de Madrid\, 28020\, España
STATUS:CONFIRMED
CATEGORIES:Madrid
END:VEVENT
END:VCALENDAR
