BEGIN:VCALENDAR
VERSION:2.0
CALSCALE:GREGORIAN
PRODID:adamgibbons/ics
METHOD:PUBLISH
X-PUBLISHED-TTL:PT1H
BEGIN:VEVENT
UID:21765@demo.gancio.org
SUMMARY:🏴‍☠️🔥EQUINOX🔥🏴‍☠️
DTSTAMP:20260426T042439Z
DTSTART:20260509T160000Z
DTEND:20260510T020000Z
URL:https://demo.gancio.org/event/skull-and-bonesequinoxskull-and-bones
GEO:41.932175;12.5543475
LOCATION:CSOA La Torre - Via Carlo Giuseppe Bertero 13\, 00156\, Roma
STATUS:CONFIRMED
CATEGORIES:musica
END:VEVENT
END:VCALENDAR
