BEGIN:VCALENDAR
VERSION:2.0
CALSCALE:GREGORIAN
PRODID:adamgibbons/ics
METHOD:PUBLISH
X-PUBLISHED-TTL:PT1H
BEGIN:VEVENT
UID:21657@demo.gancio.org
SUMMARY:Bicicrítica
DTSTAMP:20260420T114947Z
DTSTART:20260430T180000Z
URL:https://demo.gancio.org/event/bicicritica
GEO:40.4195624;-3.6927981
LOCATION:Plaza Cibeles - Recoletos\, Salamanca\, Madrid\, Área metropolitan
	a de Madrid y Corredor del Henares\, Comunidad de Madrid\, 28014\, España
STATUS:CONFIRMED
CATEGORIES:Madrid
END:VEVENT
END:VCALENDAR
