BEGIN:VCALENDAR
VERSION:2.0
CALSCALE:GREGORIAN
PRODID:adamgibbons/ics
METHOD:PUBLISH
X-PUBLISHED-TTL:PT1H
BEGIN:VEVENT
UID:21248@demo.gancio.org
SUMMARY:Conf
DTSTAMP:20260423T135206Z
DTSTART:20260623T123000Z
DTEND:20260623T133000Z
URL:https://demo.gancio.org/event/conf
GEO:43.3045075;-71.3272525
LOCATION:Rv48 - 45\, Main Street\, Pittsfield\, Merrimack County\, New Hamp
	shire\, 03263\, United States
STATUS:CONFIRMED
CATEGORIES:
END:VEVENT
END:VCALENDAR
