BEGIN:VCALENDAR
VERSION:2.0
CALSCALE:GREGORIAN
PRODID:adamgibbons/ics
METHOD:PUBLISH
X-PUBLISHED-TTL:PT1H
BEGIN:VEVENT
UID:21917@demo.gancio.org
SUMMARY:Test123
DTSTAMP:20260426T014830Z
DTSTART:20260430T163000Z
DTEND:20260430T190000Z
URL:https://demo.gancio.org/event/test123-43
LOCATION:online - https://discord.com
STATUS:CONFIRMED
CATEGORIES:
END:VEVENT
END:VCALENDAR
