BEGIN:VCALENDAR
VERSION:2.0
CALSCALE:GREGORIAN
PRODID:adamgibbons/ics
METHOD:PUBLISH
X-PUBLISHED-TTL:PT1H
BEGIN:VEVENT
UID:21913@demo.gancio.org
SUMMARY:Test Event 123
DTSTAMP:20260426T042250Z
DTSTART:20260429T121000Z
DTEND:20260429T124500Z
URL:https://demo.gancio.org/event/test-event-123-51
GEO:29.8242366;-95.2845581
LOCATION:Nashville USA - Houston\, Harris County\, Texas\, 77028\, United S
	tates
STATUS:CONFIRMED
CATEGORIES:
END:VEVENT
BEGIN:VEVENT
UID:21864@demo.gancio.org
SUMMARY:Test match
DTSTAMP:20260426T042250Z
DTSTART:20260430T080000Z
URL:https://demo.gancio.org/event/test-match
GEO:29.8242366;-95.2845581
LOCATION:Nashville USA - Houston\, Harris County\, Texas\, 77028\, United S
	tates
STATUS:CONFIRMED
CATEGORIES:
END:VEVENT
BEGIN:VEVENT
UID:21834@demo.gancio.org
SUMMARY:test recurrent
DTSTAMP:20260426T042250Z
DTSTART:20260501T220000Z
DTEND:20260501T230000Z
URL:https://demo.gancio.org/event/test-recurrent-1
GEO:29.8242366;-95.2845581
LOCATION:Nashville USA - Houston\, Harris County\, Texas\, 77028\, United S
	tates
STATUS:CONFIRMED
CATEGORIES:
END:VEVENT
BEGIN:VEVENT
UID:21776@demo.gancio.org
SUMMARY:Recurring Event Test
DTSTAMP:20260426T042250Z
DTSTART:20260504T223000Z
DTEND:20260504T233000Z
URL:https://demo.gancio.org/event/recurring-event-test-7
GEO:29.8242366;-95.2845581
LOCATION:Nashville USA - Houston\, Harris County\, Texas\, 77028\, United S
	tates
STATUS:CONFIRMED
CATEGORIES:Test
END:VEVENT
END:VCALENDAR
