BEGIN:VCALENDAR
VERSION:2.0
CALSCALE:GREGORIAN
PRODID:adamgibbons/ics
METHOD:PUBLISH
X-PUBLISHED-TTL:PT1H
BEGIN:VEVENT
UID:21897@demo.gancio.org
SUMMARY:Melenzane
DTSTAMP:20260425T221246Z
DTSTART:20260527T200000Z
DTEND:20260527T231500Z
URL:https://demo.gancio.org/event/melenzane-21
LOCATION:Panchina blu - Piazza Gabriele Rosa 21\, Milano
STATUS:CONFIRMED
CATEGORIES:Giampiero Monegari
END:VEVENT
END:VCALENDAR
