BEGIN:VCALENDAR
VERSION:2.0
CALSCALE:GREGORIAN
PRODID:adamgibbons/ics
METHOD:PUBLISH
X-PUBLISHED-TTL:PT1H
BEGIN:VEVENT
UID:21909@demo.gancio.org
SUMMARY:Kinderchorprobe
DTSTAMP:20260426T001349Z
DTSTART:20260504T163000Z
DTEND:20260504T180000Z
URL:https://demo.gancio.org/event/kinderchorprobe-17
LOCATION:Colosseo - Piazza del Colosseo\, Rome
STATUS:CONFIRMED
CATEGORIES:
END:VEVENT
END:VCALENDAR
