BEGIN:VCALENDAR
VERSION:2.0
CALSCALE:GREGORIAN
PRODID:adamgibbons/ics
METHOD:PUBLISH
X-PUBLISHED-TTL:PT1H
BEGIN:VEVENT
UID:21908@demo.gancio.org
SUMMARY:test
DTSTAMP:20260420T171906Z
DTSTART:20260427T101500Z
DTEND:20260427T110000Z
DESCRIPTION:test
URL:https://demo.gancio.org/event/test-173
LOCATION:TestAddress - Av 123\, Street 456
STATUS:CONFIRMED
CATEGORIES:
X-ALT-DESC;FMTTYPE=text/html:<p>test</p>
BEGIN:VALARM
ACTION:DISPLAY
DESCRIPTION:test
TRIGGER:-PT1H
END:VALARM
END:VEVENT
END:VCALENDAR
