BEGIN:VCALENDAR
VERSION:2.0
CALSCALE:GREGORIAN
PRODID:adamgibbons/ics
METHOD:PUBLISH
X-PUBLISHED-TTL:PT1H
BEGIN:VEVENT
UID:21914@demo.gancio.org
SUMMARY:iuhiuh
DTSTAMP:20260423T072310Z
DTSTART:20260429T220000Z
DESCRIPTION:test
URL:https://demo.gancio.org/event/iuhiuh-8
GEO:45.06898875;7.693191847163605
LOCATION:Fediversetvihuiuh - Via Montebello\, Borgo Nuovo\, Circoscrizione 
	1\, Torino\, Piemonte\, 10124\, Italia
STATUS:CONFIRMED
CATEGORIES:
X-ALT-DESC;FMTTYPE=text/html:<p>test</p>
BEGIN:VALARM
ACTION:DISPLAY
DESCRIPTION:iuhiuh
TRIGGER:-PT1H
END:VALARM
END:VEVENT
END:VCALENDAR
