BEGIN:VCALENDAR
VERSION:2.0
CALSCALE:GREGORIAN
PRODID:adamgibbons/ics
METHOD:PUBLISH
X-PUBLISHED-TTL:PT1H
BEGIN:VEVENT
UID:21916@demo.gancio.org
SUMMARY:fumetto
DTSTAMP:20260423T143342Z
DTSTART:20260430T100000Z
URL:https://demo.gancio.org/event/fumetto-18
LOCATION:nowhere - nowhere
STATUS:CONFIRMED
CATEGORIES:
BEGIN:VALARM
ACTION:DISPLAY
DESCRIPTION:fumetto
TRIGGER:-PT1H
END:VALARM
END:VEVENT
END:VCALENDAR
